BEGIN:VCALENDAR
VERSION:2.0
PRODID:-//Creative Financial Group - ECPv6.15.20//NONSGML v1.0//EN
CALSCALE:GREGORIAN
METHOD:PUBLISH
X-ORIGINAL-URL:https://creativefinancialgrp.com
X-WR-CALDESC:Events for Creative Financial Group
REFRESH-INTERVAL;VALUE=DURATION:PT1H
X-Robots-Tag:noindex
X-PUBLISHED-TTL:PT1H
BEGIN:VTIMEZONE
TZID:UTC
BEGIN:STANDARD
TZOFFSETFROM:+0000
TZOFFSETTO:+0000
TZNAME:UTC
DTSTART:20250101T000000
END:STANDARD
END:VTIMEZONE
BEGIN:VEVENT
DTSTART;TZID=UTC:20260107T180000
DTEND;TZID=UTC:20260107T190000
DTSTAMP:20260423T123022
CREATED:20251126T191404Z
LAST-MODIFIED:20260128T172702Z
UID:45202-1767808800-1767812400@creativefinancialgrp.com
SUMMARY:Franklin Branch
DESCRIPTION:401 State Street\, Franklin\, IN 46131 \nCommunity Room \nExtras: Free Parking\nAddress: 401 State Street\, Franklin\, IN 46131 \nPlease enable JavaScript in your browser to complete this form.Name *FirstLastEvent Name *Email Address *		\n			Email Number Event\n			\n		\n		Phone NumberSubmit
URL:https://creativefinancialgrp.com/attend-an-event/franklin-branch/
END:VEVENT
BEGIN:VEVENT
DTSTART;TZID=UTC:20260113T180000
DTEND;TZID=UTC:20260113T190000
DTSTAMP:20260423T123022
CREATED:20260106T155949Z
LAST-MODIFIED:20260128T172732Z
UID:45824-1768327200-1768330800@creativefinancialgrp.com
SUMMARY:Monrovia
DESCRIPTION:Retirement Tax Strategies for 2026 \nCommunity Room \nExtras: Free Parking\nAddress: 145 S Chestnut st\, Monrovia\, IN 46157 \nPlease enable JavaScript in your browser to complete this form.Name *FirstLast		\n			Address Email Number\n			\n		\n		Event Name *Email Address *Phone NumberSubmit
URL:https://creativefinancialgrp.com/attend-an-event/monrovia/
END:VEVENT
BEGIN:VEVENT
DTSTART;TZID=UTC:20260115T180000
DTEND;TZID=UTC:20260115T190000
DTSTAMP:20260423T123022
CREATED:20260106T160542Z
LAST-MODIFIED:20260128T172727Z
UID:45828-1768500000-1768503600@creativefinancialgrp.com
SUMMARY:Plainfield Branch
DESCRIPTION:Retirement Tax Strategies for 2026 \nCommunity Room \nExtras: Free Parking\nAddress: 1120 Stafford Rd\, Plainfield\, IN 46168 \nPlease enable JavaScript in your browser to complete this form.Name *FirstLastEvent Name *Email Address *		\n			Event Address Name\n			\n		\n		Phone NumberSubmit
URL:https://creativefinancialgrp.com/attend-an-event/plainfield-branch/
END:VEVENT
BEGIN:VEVENT
DTSTART;TZID=UTC:20260120T180000
DTEND;TZID=UTC:20260120T190000
DTSTAMP:20260423T123022
CREATED:20260106T160633Z
LAST-MODIFIED:20260128T172723Z
UID:45832-1768932000-1768935600@creativefinancialgrp.com
SUMMARY:Franklin Road
DESCRIPTION:Retirement Tax Strategies for 2026 \nCommunity Room \nExtras: Free Parking\nAddress: 5550 s Franklin Rd\, Indianapolis In 46239 \nPlease enable JavaScript in your browser to complete this form.Name *FirstLast		\n			Name Event Number\n			\n		\n		Event Name *Email Address *Phone NumberSubmit
URL:https://creativefinancialgrp.com/attend-an-event/franklin-road/
END:VEVENT
BEGIN:VEVENT
DTSTART;TZID=UTC:20260129T180000
DTEND;TZID=UTC:20260129T190000
DTSTAMP:20260423T123022
CREATED:20260106T160732Z
LAST-MODIFIED:20260128T172719Z
UID:45834-1769709600-1769713200@creativefinancialgrp.com
SUMMARY:Clark Pleasant Branch
DESCRIPTION:Retirement Tax Strategies for 2026 \nCommunity Room \nExtras: Free Parking\nAddress: 350 ClearWater Blvd\, Whiteland\, In 46184 \nPlease enable JavaScript in your browser to complete this form.Name *FirstLastEvent Name *		\n			Phone Name Number\n			\n		\n		Email Address *Phone NumberSubmit
URL:https://creativefinancialgrp.com/attend-an-event/clark-pleasant-branch/
END:VEVENT
END:VCALENDAR