BEGIN:VCALENDAR
VERSION:2.0
PRODID:-//Creative Financial Group - ECPv6.15.20//NONSGML v1.0//EN
CALSCALE:GREGORIAN
METHOD:PUBLISH
X-WR-CALNAME:Creative Financial Group
X-ORIGINAL-URL:https://creativefinancialgrp.com
X-WR-CALDESC:Events for Creative Financial Group
REFRESH-INTERVAL;VALUE=DURATION:PT1H
X-Robots-Tag:noindex
X-PUBLISHED-TTL:PT1H
BEGIN:VTIMEZONE
TZID:UTC
BEGIN:STANDARD
TZOFFSETFROM:+0000
TZOFFSETTO:+0000
TZNAME:UTC
DTSTART:20250101T000000
END:STANDARD
END:VTIMEZONE
BEGIN:VEVENT
DTSTART;TZID=UTC:20260310T180000
DTEND;TZID=UTC:20260310T190000
DTSTAMP:20260422T123032
CREATED:20260204T052019Z
LAST-MODIFIED:20260204T052019Z
UID:45979-1773165600-1773169200@creativefinancialgrp.com
SUMMARY:Trafalger Tower Street
DESCRIPTION:Retirement Tax Strategies for 2026  \nCommunity Room \nRoom Capacity: 40 \nExtras: \n\nFree Parking\nWFR to handle reminder process\n\nAddress: Trafalger – 424 s  Tower Street\, Trafalgar In 46181 \nPlease enable JavaScript in your browser to complete this form.Name *FirstLastEvent Name *Email Address *		\n			Phone Name Email\n			\n		\n		Phone NumberSubmit
URL:https://creativefinancialgrp.com/attend-an-event/trafalger-tower-street/
END:VEVENT
END:VCALENDAR